BEGIN:VCALENDAR
VERSION:2.0
PRODID:-//Medici Providence - ECPv6.15.16//NONSGML v1.0//EN
CALSCALE:GREGORIAN
METHOD:PUBLISH
X-WR-CALNAME:Medici Providence
X-ORIGINAL-URL:https://mediciprov.com
X-WR-CALDESC:Events for Medici Providence
REFRESH-INTERVAL;VALUE=DURATION:PT1H
X-Robots-Tag:noindex
X-PUBLISHED-TTL:PT1H
BEGIN:VTIMEZONE
TZID:UTC
BEGIN:STANDARD
TZOFFSETFROM:+0000
TZOFFSETTO:+0000
TZNAME:UTC
DTSTART:20230101T000000
END:STANDARD
END:VTIMEZONE
BEGIN:VTIMEZONE
TZID:America/New_York
BEGIN:DAYLIGHT
TZOFFSETFROM:-0500
TZOFFSETTO:-0400
TZNAME:EDT
DTSTART:20230312T070000
END:DAYLIGHT
BEGIN:STANDARD
TZOFFSETFROM:-0400
TZOFFSETTO:-0500
TZNAME:EST
DTSTART:20231105T060000
END:STANDARD
BEGIN:DAYLIGHT
TZOFFSETFROM:-0500
TZOFFSETTO:-0400
TZNAME:EDT
DTSTART:20240310T070000
END:DAYLIGHT
BEGIN:STANDARD
TZOFFSETFROM:-0400
TZOFFSETTO:-0500
TZNAME:EST
DTSTART:20241103T060000
END:STANDARD
BEGIN:DAYLIGHT
TZOFFSETFROM:-0500
TZOFFSETTO:-0400
TZNAME:EDT
DTSTART:20250309T070000
END:DAYLIGHT
BEGIN:STANDARD
TZOFFSETFROM:-0400
TZOFFSETTO:-0500
TZNAME:EST
DTSTART:20251102T060000
END:STANDARD
BEGIN:DAYLIGHT
TZOFFSETFROM:-0500
TZOFFSETTO:-0400
TZNAME:EDT
DTSTART:20260308T070000
END:DAYLIGHT
BEGIN:STANDARD
TZOFFSETFROM:-0400
TZOFFSETTO:-0500
TZNAME:EST
DTSTART:20261101T060000
END:STANDARD
END:VTIMEZONE
BEGIN:VEVENT
DTSTART;TZID=UTC:20241231T210000
DTEND;TZID=UTC:20250101T010000
DTSTAMP:20260419T124831
CREATED:20241228T012912Z
LAST-MODIFIED:20241228T012912Z
UID:137-1735678800-1735693200@mediciprov.com
SUMMARY:New Years Eve at Medici
DESCRIPTION:Ring in the New Year at Medici with DJ Knockout! \nCelebrate the start of a new year in style at Providence’s premier nightlife destination. DJ Knockout will keep the energy high and the dance floor packed all night long\, powered by the best sound system in New England. Toast to 2025 with unforgettable vibes\, dazzling lights\, and an electric atmosphere.
URL:https://mediciprov.com/event/new-years-eve-at-medici/
LOCATION:Nightlife\, 127 Friendship St\, Providence\, RI\, 02903\, United States
ATTACH;FMTTYPE=image/jpeg:https://mediciprov.com/wp-content/uploads/2024/12/square-nye-2.jpeg
END:VEVENT
BEGIN:VEVENT
DTSTART;TZID=America/New_York:20241231T220000
DTEND;TZID=America/New_York:20250101T010000
DTSTAMP:20260419T124831
CREATED:20241231T004547Z
LAST-MODIFIED:20241231T004547Z
UID:167-1735682400-1735693200@mediciprov.com
SUMMARY:NYE with DJ Knockout
DESCRIPTION:Step into an intimate and stylish celebration this New Year’s Eve at Providence’s premier lounge. DJ Knockout sets the mood with smooth beats and vibrant energy as you sip handcrafted cocktails and toast to 2025. Celebrate in style\, surrounded by sophistication and good vibes all night long.
URL:https://mediciprov.com/event/nye-with-dj-knockout/
LOCATION:Medici Lounge\, 172 Pine St\, Providence\, RI\, 02903\, United States
CATEGORIES:Lounge
ATTACH;FMTTYPE=image/jpeg:https://mediciprov.com/wp-content/uploads/2024/12/IMG_2892.jpg
END:VEVENT
END:VCALENDAR