BEGIN:VCALENDAR
VERSION:2.0
PRODID:-//Medici Providence - ECPv6.15.16//NONSGML v1.0//EN
CALSCALE:GREGORIAN
METHOD:PUBLISH
X-ORIGINAL-URL:https://mediciprov.com
X-WR-CALDESC:Events for Medici Providence
REFRESH-INTERVAL;VALUE=DURATION:PT1H
X-Robots-Tag:noindex
X-PUBLISHED-TTL:PT1H
BEGIN:VTIMEZONE
TZID:America/New_York
BEGIN:DAYLIGHT
TZOFFSETFROM:-0500
TZOFFSETTO:-0400
TZNAME:EDT
DTSTART:20240310T070000
END:DAYLIGHT
BEGIN:STANDARD
TZOFFSETFROM:-0400
TZOFFSETTO:-0500
TZNAME:EST
DTSTART:20241103T060000
END:STANDARD
BEGIN:DAYLIGHT
TZOFFSETFROM:-0500
TZOFFSETTO:-0400
TZNAME:EDT
DTSTART:20250309T070000
END:DAYLIGHT
BEGIN:STANDARD
TZOFFSETFROM:-0400
TZOFFSETTO:-0500
TZNAME:EST
DTSTART:20251102T060000
END:STANDARD
BEGIN:DAYLIGHT
TZOFFSETFROM:-0500
TZOFFSETTO:-0400
TZNAME:EDT
DTSTART:20260308T070000
END:DAYLIGHT
BEGIN:STANDARD
TZOFFSETFROM:-0400
TZOFFSETTO:-0500
TZNAME:EST
DTSTART:20261101T060000
END:STANDARD
END:VTIMEZONE
BEGIN:VEVENT
DTSTART;TZID=America/New_York:20250221T220000
DTEND;TZID=America/New_York:20250222T020000
DTSTAMP:20260419T113233
CREATED:20250206T191853Z
LAST-MODIFIED:20250206T191853Z
UID:334-1740175200-1740189600@mediciprov.com
SUMMARY:Bently
DESCRIPTION:Enjoy the Providence Night Life this Febraury at Medici with the sounds of Bently.
URL:https://mediciprov.com/event/bently/
LOCATION:Nightlife\, 127 Friendship St\, Providence\, RI\, 02903\, United States
CATEGORIES:Dance Club
ATTACH;FMTTYPE=image/png:https://mediciprov.com/wp-content/uploads/2025/02/7.png
END:VEVENT
BEGIN:VEVENT
DTSTART;TZID=America/New_York:20250222T190000
DTEND;TZID=America/New_York:20250222T230000
DTSTAMP:20260419T113233
CREATED:20250215T225842Z
LAST-MODIFIED:20250215T225842Z
UID:368-1740250800-1740265200@mediciprov.com
SUMMARY:Fashion Show
DESCRIPTION:
URL:https://mediciprov.com/event/fashion-show/
LOCATION:Medici Lounge\, 172 Pine St\, Providence\, RI\, 02903\, United States
CATEGORIES:Lounge
ATTACH;FMTTYPE=image/jpeg:https://mediciprov.com/wp-content/uploads/2025/02/fashionposter.jpeg
END:VEVENT
END:VCALENDAR