BEGIN:VCALENDAR
VERSION:2.0
PRODID:-//Medici Providence - ECPv6.15.16//NONSGML v1.0//EN
CALSCALE:GREGORIAN
METHOD:PUBLISH
X-ORIGINAL-URL:https://mediciprov.com
X-WR-CALDESC:Events for Medici Providence
REFRESH-INTERVAL;VALUE=DURATION:PT1H
X-Robots-Tag:noindex
X-PUBLISHED-TTL:PT1H
BEGIN:VTIMEZONE
TZID:America/New_York
BEGIN:DAYLIGHT
TZOFFSETFROM:-0500
TZOFFSETTO:-0400
TZNAME:EDT
DTSTART:20240310T070000
END:DAYLIGHT
BEGIN:STANDARD
TZOFFSETFROM:-0400
TZOFFSETTO:-0500
TZNAME:EST
DTSTART:20241103T060000
END:STANDARD
BEGIN:DAYLIGHT
TZOFFSETFROM:-0500
TZOFFSETTO:-0400
TZNAME:EDT
DTSTART:20250309T070000
END:DAYLIGHT
BEGIN:STANDARD
TZOFFSETFROM:-0400
TZOFFSETTO:-0500
TZNAME:EST
DTSTART:20251102T060000
END:STANDARD
BEGIN:DAYLIGHT
TZOFFSETFROM:-0500
TZOFFSETTO:-0400
TZNAME:EDT
DTSTART:20260308T070000
END:DAYLIGHT
BEGIN:STANDARD
TZOFFSETFROM:-0400
TZOFFSETTO:-0500
TZNAME:EST
DTSTART:20261101T060000
END:STANDARD
END:VTIMEZONE
BEGIN:VEVENT
DTSTART;TZID=America/New_York:20250307T220000
DTEND;TZID=America/New_York:20250308T020000
DTSTAMP:20260419T101002
CREATED:20250227T223202Z
LAST-MODIFIED:20250228T222808Z
UID:389-1741384800-1741399200@mediciprov.com
SUMMARY:Bently
DESCRIPTION:RSVP 401-329-6728
URL:https://mediciprov.com/event/bently-2/
LOCATION:Nightlife\, 127 Friendship St\, Providence\, RI\, 02903\, United States
CATEGORIES:Dance Club
ATTACH;FMTTYPE=image/png:https://mediciprov.com/wp-content/uploads/2025/02/12.png
END:VEVENT
BEGIN:VEVENT
DTSTART;TZID=America/New_York:20250308T220000
DTEND;TZID=America/New_York:20250309T030000
DTSTAMP:20260419T101002
CREATED:20250227T223334Z
LAST-MODIFIED:20250303T205058Z
UID:392-1741471200-1741489200@mediciprov.com
SUMMARY:DJ Giode & DJ Donny D
DESCRIPTION:Join us for the best nightlife in Providence\, Saturday\, March 8th featuring DJ Giode and DJ Donnny D spinning your favorite music from 10:00 PM until 2:00 AM at Medici RSVP 401-329
URL:https://mediciprov.com/event/giode-dj-dnnied/
LOCATION:Nightlife\, 127 Friendship St\, Providence\, RI\, 02903\, United States
CATEGORIES:Dance Club
ATTACH;FMTTYPE=image/jpeg:https://mediciprov.com/wp-content/uploads/2025/02/IMG_9980.jpeg
END:VEVENT
END:VCALENDAR