BEGIN:VCALENDAR
VERSION:2.0
PRODID:-//Medici Providence - ECPv6.15.16//NONSGML v1.0//EN
CALSCALE:GREGORIAN
METHOD:PUBLISH
X-ORIGINAL-URL:https://mediciprov.com
X-WR-CALDESC:Events for Medici Providence
REFRESH-INTERVAL;VALUE=DURATION:PT1H
X-Robots-Tag:noindex
X-PUBLISHED-TTL:PT1H
BEGIN:VTIMEZONE
TZID:America/New_York
BEGIN:DAYLIGHT
TZOFFSETFROM:-0500
TZOFFSETTO:-0400
TZNAME:EDT
DTSTART:20240310T070000
END:DAYLIGHT
BEGIN:STANDARD
TZOFFSETFROM:-0400
TZOFFSETTO:-0500
TZNAME:EST
DTSTART:20241103T060000
END:STANDARD
BEGIN:DAYLIGHT
TZOFFSETFROM:-0500
TZOFFSETTO:-0400
TZNAME:EDT
DTSTART:20250309T070000
END:DAYLIGHT
BEGIN:STANDARD
TZOFFSETFROM:-0400
TZOFFSETTO:-0500
TZNAME:EST
DTSTART:20251102T060000
END:STANDARD
BEGIN:DAYLIGHT
TZOFFSETFROM:-0500
TZOFFSETTO:-0400
TZNAME:EDT
DTSTART:20260308T070000
END:DAYLIGHT
BEGIN:STANDARD
TZOFFSETFROM:-0400
TZOFFSETTO:-0500
TZNAME:EST
DTSTART:20261101T060000
END:STANDARD
END:VTIMEZONE
BEGIN:VEVENT
DTSTART;TZID=America/New_York:20250927T220000
DTEND;TZID=America/New_York:20250928T020000
DTSTAMP:20260419T101022
CREATED:20250927T183735Z
LAST-MODIFIED:20250927T183735Z
UID:1068-1759010400-1759024800@mediciprov.com
SUMMARY:Rootz Voyage Saturdays
DESCRIPTION:Rootz VOYAGE Saturdays \nspecial guests from Netherlands ELSON SOARES \nmusic by DYAMAND \nWelcome to Rootz Vogage is our all new Saturday night at Medici Nightclub\,PVD \nIt’s a weekly event designed to make each night feel like a special journey. \nFor the grand opening we will have a special guest alongside our Rootz DJ Dymand \nElson Soares is a Cape Verdean Dj and producer based in Rotterdam\, The Netherlands. Not just a Dj-he’s a performer who combines Afro-inspired rhythms with live percussion\, creating an unmatched energy that brings the dance floor to live. Known for his passion for music and deep connection with the crowd. \nLadies 18+ \nGents must be 21+ \nSaturday September 27 10PM- 2AM \nMedici Night Club \n127 Friendship St\, Providence\, RI
URL:https://mediciprov.com/event/rootz-voyage-saturdays/
LOCATION:Medici\, 127 Friendship St\, Providence\, RI\, 02904\, United States
CATEGORIES:Dance Club
END:VEVENT
END:VCALENDAR