BEGIN:VCALENDAR
VERSION:2.0
PRODID:-//Medici Providence - ECPv6.15.16//NONSGML v1.0//EN
CALSCALE:GREGORIAN
METHOD:PUBLISH
X-WR-CALNAME:Medici Providence
X-ORIGINAL-URL:https://mediciprov.com
X-WR-CALDESC:Events for Medici Providence
REFRESH-INTERVAL;VALUE=DURATION:PT1H
X-Robots-Tag:noindex
X-PUBLISHED-TTL:PT1H
BEGIN:VTIMEZONE
TZID:America/New_York
BEGIN:DAYLIGHT
TZOFFSETFROM:-0500
TZOFFSETTO:-0400
TZNAME:EDT
DTSTART:20240310T070000
END:DAYLIGHT
BEGIN:STANDARD
TZOFFSETFROM:-0400
TZOFFSETTO:-0500
TZNAME:EST
DTSTART:20241103T060000
END:STANDARD
BEGIN:DAYLIGHT
TZOFFSETFROM:-0500
TZOFFSETTO:-0400
TZNAME:EDT
DTSTART:20250309T070000
END:DAYLIGHT
BEGIN:STANDARD
TZOFFSETFROM:-0400
TZOFFSETTO:-0500
TZNAME:EST
DTSTART:20251102T060000
END:STANDARD
BEGIN:DAYLIGHT
TZOFFSETFROM:-0500
TZOFFSETTO:-0400
TZNAME:EDT
DTSTART:20260308T070000
END:DAYLIGHT
BEGIN:STANDARD
TZOFFSETFROM:-0400
TZOFFSETTO:-0500
TZNAME:EST
DTSTART:20261101T060000
END:STANDARD
END:VTIMEZONE
BEGIN:VEVENT
DTSTART;TZID=America/New_York:20251003T220000
DTEND;TZID=America/New_York:20251004T020000
DTSTAMP:20260419T100823
CREATED:20250927T190126Z
LAST-MODIFIED:20250927T190126Z
UID:1073-1759528800-1759543200@mediciprov.com
SUMMARY:Old Enough to Party
DESCRIPTION:Old Enough to Party \nDJ Big Show \nSocial Tables Event/Casual Ent/ThekidCalledL \nMedici Lounge 172 Pine St\, Providence\, RI \nFriday\, Oct 3\, 2025 10PM-2AM
URL:https://mediciprov.com/event/old-enough-to-party/
LOCATION:RI
CATEGORIES:Lounge
END:VEVENT
BEGIN:VEVENT
DTSTART;TZID=America/New_York:20251003T220000
DTEND;TZID=America/New_York:20251004T020000
DTSTAMP:20260419T100823
CREATED:20251001T203612Z
LAST-MODIFIED:20251001T203612Z
UID:1091-1759528800-1759543200@mediciprov.com
SUMMARY:Good Fridays
DESCRIPTION:Good Fridays: Whose catalog goes harder- Bad Bunny or Drake? We’re putting them head-to-head all night long. \nDj’s will be battling Bad Bunny vs Drake on stage- track for track\, hit for hit. \nExpect all the anthems\, remixes\, and deep cuts from both legends. \nFriday Oct 3\, 2025 \n127 Friendship St\, Providence\, Ri \nMusic by Mike Woods \nWho you reppin’ – Team Bad Bunny or Team Drake
URL:https://mediciprov.com/event/good-fridays/
LOCATION:Medici\, 127 Friendship St\, Providence\, RI\, 02904\, United States
CATEGORIES:Dance Club
END:VEVENT
BEGIN:VEVENT
DTSTART;TZID=America/New_York:20251004T210000
DTEND;TZID=America/New_York:20251005T020000
DTSTAMP:20260419T100823
CREATED:20251001T204405Z
LAST-MODIFIED:20251001T204405Z
UID:1095-1759611600-1759629600@mediciprov.com
SUMMARY:WattzBeatz Medici Lounge Saturday
DESCRIPTION:WattzBeatz will be setting the Vibes at Medici Lounge. \nSaturday\, Oct 4\, 2025. Doors open at 7PM\, DJ spinning at 9PM. \nGather your crew and come experience the grown and sexy Medici Lounge set to the right vibes to make your weekend unforgettable!
URL:https://mediciprov.com/event/wattzbeatz-medici-lounge-saturday/
LOCATION:Medici Lounge\, 172 Pine St\, Providence\, RI\, 02903\, United States
CATEGORIES:Lounge
END:VEVENT
BEGIN:VEVENT
DTSTART;TZID=America/New_York:20251004T220000
DTEND;TZID=America/New_York:20251005T020000
DTSTAMP:20260419T100823
CREATED:20251001T202147Z
LAST-MODIFIED:20251001T202147Z
UID:1085-1759615200-1759629600@mediciprov.com
SUMMARY:Rootz Voyage Saturdays
DESCRIPTION:Rootz Voyage Saturdays are bringing you 2 very special guests Dj Brazo & DJ Mastermixx alongside our official Dj Dymand. Playing the sexiest Kizomba\, zouk + AfroHouse\, Dancehall & more. \nMedici 127 Friendship St\, Providence RI \nRSVP opens every Wed 7PM \nSpecial VIP Packages\, DM or Text \n8502185080 \n 
URL:https://mediciprov.com/event/rootz-voyage-saturdays-2/
LOCATION:Medici\, 127 Friendship St\, Providence\, RI\, 02904\, United States
CATEGORIES:Dance Club
END:VEVENT
END:VCALENDAR