BEGIN:VCALENDAR
VERSION:2.0
PRODID:-//Medici Providence - ECPv6.15.16//NONSGML v1.0//EN
CALSCALE:GREGORIAN
METHOD:PUBLISH
X-WR-CALNAME:Medici Providence
X-ORIGINAL-URL:https://mediciprov.com
X-WR-CALDESC:Events for Medici Providence
REFRESH-INTERVAL;VALUE=DURATION:PT1H
X-Robots-Tag:noindex
X-PUBLISHED-TTL:PT1H
BEGIN:VTIMEZONE
TZID:America/New_York
BEGIN:DAYLIGHT
TZOFFSETFROM:-0500
TZOFFSETTO:-0400
TZNAME:EDT
DTSTART:20240310T070000
END:DAYLIGHT
BEGIN:STANDARD
TZOFFSETFROM:-0400
TZOFFSETTO:-0500
TZNAME:EST
DTSTART:20241103T060000
END:STANDARD
BEGIN:DAYLIGHT
TZOFFSETFROM:-0500
TZOFFSETTO:-0400
TZNAME:EDT
DTSTART:20250309T070000
END:DAYLIGHT
BEGIN:STANDARD
TZOFFSETFROM:-0400
TZOFFSETTO:-0500
TZNAME:EST
DTSTART:20251102T060000
END:STANDARD
BEGIN:DAYLIGHT
TZOFFSETFROM:-0500
TZOFFSETTO:-0400
TZNAME:EDT
DTSTART:20260308T070000
END:DAYLIGHT
BEGIN:STANDARD
TZOFFSETFROM:-0400
TZOFFSETTO:-0500
TZNAME:EST
DTSTART:20261101T060000
END:STANDARD
END:VTIMEZONE
BEGIN:VEVENT
DTSTART;TZID=America/New_York:20251011T193000
DTEND;TZID=America/New_York:20251011T233000
DTSTAMP:20260419T113222
CREATED:20250927T172110Z
LAST-MODIFIED:20250927T173052Z
UID:1065-1760211000-1760225400@mediciprov.com
SUMMARY:Nelson Freitas
DESCRIPTION:Celebrating 25 Years of Nelson Freitas \nAn exclusive Journey through Time \nSat Oct 11\, 2025 \ndoors open at 7:30 PM \nMedici Lounge 172 Pine St\, Providence\, RI \nTickets $99.48 \nTICKETS: presentedbynexus.com \n  \n 
URL:https://mediciprov.com/event/nelson-freitas/
LOCATION:RI
CATEGORIES:Lounge
END:VEVENT
BEGIN:VEVENT
DTSTART;TZID=America/New_York:20251011T220000
DTEND;TZID=America/New_York:20251012T020000
DTSTAMP:20260419T113222
CREATED:20251007T023325Z
LAST-MODIFIED:20251007T023325Z
UID:1119-1760220000-1760234400@mediciprov.com
SUMMARY:ROOTZ VOYAGE SATURDAYS
DESCRIPTION:Rootz Voyage is our new Saturday Night series at Medici Nightclub. We are bringing you 2 very special guest MILO & FABIO the duo behind some of the hottest anthems: \nFaz Uma ft Breyth/ amigo Ryko/ Oskey ft Danni Gato/ Hoje Tem ft Deekay \nalongside our official @djdymand & Dj IMA playing the sexiest Kizomba\, zouk + AfroHouse\, Dancehall & more \nfor +Info or VIP RES text 8502185080
URL:https://mediciprov.com/event/rootz-voyage-saturdays-3/
LOCATION:Medici\, 127 Friendship St\, Providence\, RI\, 02904\, United States
CATEGORIES:Dance Club
END:VEVENT
END:VCALENDAR