BEGIN:VCALENDAR
VERSION:2.0
PRODID:-//Medici Providence - ECPv6.15.16//NONSGML v1.0//EN
CALSCALE:GREGORIAN
METHOD:PUBLISH
X-WR-CALNAME:Medici Providence
X-ORIGINAL-URL:https://mediciprov.com
X-WR-CALDESC:Events for Medici Providence
REFRESH-INTERVAL;VALUE=DURATION:PT1H
X-Robots-Tag:noindex
X-PUBLISHED-TTL:PT1H
BEGIN:VTIMEZONE
TZID:America/New_York
BEGIN:DAYLIGHT
TZOFFSETFROM:-0500
TZOFFSETTO:-0400
TZNAME:EDT
DTSTART:20240310T070000
END:DAYLIGHT
BEGIN:STANDARD
TZOFFSETFROM:-0400
TZOFFSETTO:-0500
TZNAME:EST
DTSTART:20241103T060000
END:STANDARD
BEGIN:DAYLIGHT
TZOFFSETFROM:-0500
TZOFFSETTO:-0400
TZNAME:EDT
DTSTART:20250309T070000
END:DAYLIGHT
BEGIN:STANDARD
TZOFFSETFROM:-0400
TZOFFSETTO:-0500
TZNAME:EST
DTSTART:20251102T060000
END:STANDARD
BEGIN:DAYLIGHT
TZOFFSETFROM:-0500
TZOFFSETTO:-0400
TZNAME:EDT
DTSTART:20260308T070000
END:DAYLIGHT
BEGIN:STANDARD
TZOFFSETFROM:-0400
TZOFFSETTO:-0500
TZNAME:EST
DTSTART:20261101T060000
END:STANDARD
END:VTIMEZONE
BEGIN:VEVENT
DTSTART;TZID=America/New_York:20251101T220000
DTEND;TZID=America/New_York:20251102T020000
DTSTAMP:20260419T100833
CREATED:20251022T150407Z
LAST-MODIFIED:20251022T151713Z
UID:1135-1762034400-1762048800@mediciprov.com
SUMMARY:Alan Dixon (Keinemusik)
DESCRIPTION:Extra Credit Presents: Halloween w/Alan Dixon \nSat Nov 1 at 10PM-2AM \nHalloween w/Alan Dixon at Medici’s Club room. Limited tickets. \nThis time we welcome Alan Dixon-whose work with Keinemusik has propelled him onto the world stage. With standout tracks like”Forms of Love” and “Thandaza” released on keinemusik\, Dixon has carried his unmistakable Afro-House sound across the globe. \n18+ entry/21 + to drink-please bring valid government issued ID \nAll ticket sales are final-this event will sell out so please arrive early to avoid queues\, doors open at 10PM. \n127 Friendship St\, Providence\, RI 02904
URL:https://mediciprov.com/event/1135/
LOCATION:Medici\, 127 Friendship St\, Providence\, RI\, 02904\, United States
CATEGORIES:Dance Club
END:VEVENT
END:VCALENDAR