BEGIN:VCALENDAR
VERSION:2.0
PRODID:-//Medici Providence - ECPv6.15.16//NONSGML v1.0//EN
CALSCALE:GREGORIAN
METHOD:PUBLISH
X-ORIGINAL-URL:https://mediciprov.com
X-WR-CALDESC:Events for Medici Providence
REFRESH-INTERVAL;VALUE=DURATION:PT1H
X-Robots-Tag:noindex
X-PUBLISHED-TTL:PT1H
BEGIN:VTIMEZONE
TZID:America/New_York
BEGIN:DAYLIGHT
TZOFFSETFROM:-0500
TZOFFSETTO:-0400
TZNAME:EDT
DTSTART:20240310T070000
END:DAYLIGHT
BEGIN:STANDARD
TZOFFSETFROM:-0400
TZOFFSETTO:-0500
TZNAME:EST
DTSTART:20241103T060000
END:STANDARD
BEGIN:DAYLIGHT
TZOFFSETFROM:-0500
TZOFFSETTO:-0400
TZNAME:EDT
DTSTART:20250309T070000
END:DAYLIGHT
BEGIN:STANDARD
TZOFFSETFROM:-0400
TZOFFSETTO:-0500
TZNAME:EST
DTSTART:20251102T060000
END:STANDARD
BEGIN:DAYLIGHT
TZOFFSETFROM:-0500
TZOFFSETTO:-0400
TZNAME:EDT
DTSTART:20260308T070000
END:DAYLIGHT
BEGIN:STANDARD
TZOFFSETFROM:-0400
TZOFFSETTO:-0500
TZNAME:EST
DTSTART:20261101T060000
END:STANDARD
END:VTIMEZONE
BEGIN:VEVENT
DTSTART;TZID=America/New_York:20251202T180000
DTEND;TZID=America/New_York:20251202T220000
DTSTAMP:20260419T084453
CREATED:20250927T193251Z
LAST-MODIFIED:20250927T193251Z
UID:1082-1764698400-1764712800@mediciprov.com
SUMMARY:Little Mania Wrestling Event
DESCRIPTION:Little Mania Wrestling World Tour featuring Midget Wrestling All Stars. \nwithness the chaos firsthand! \nTuesday\, Dec 2\, 2025 \nMedici Lounge 172 Pine St\, Providence\, RI \n21+ Doors open at 6:00PM Show at 8:00PM \nLITTLEMANIAEVENTS.COM \nCatch it Live on: on the Marc TV \nTickets: $25 at Venue or online. \nfacebook: @littlemaniawrestling \nInstagram: @littlemaniawrestling \n 
URL:https://mediciprov.com/event/little-mania-wrestling-event/
LOCATION:Medici Lounge\, 172 Pine St\, Providence\, RI\, 02903\, United States
CATEGORIES:Lounge
END:VEVENT
END:VCALENDAR