BEGIN:VCALENDAR
VERSION:2.0
PRODID:-//Medici Providence - ECPv6.15.16//NONSGML v1.0//EN
CALSCALE:GREGORIAN
METHOD:PUBLISH
X-WR-CALNAME:Medici Providence
X-ORIGINAL-URL:https://mediciprov.com
X-WR-CALDESC:Events for Medici Providence
REFRESH-INTERVAL;VALUE=DURATION:PT1H
X-Robots-Tag:noindex
X-PUBLISHED-TTL:PT1H
BEGIN:VTIMEZONE
TZID:America/New_York
BEGIN:DAYLIGHT
TZOFFSETFROM:-0500
TZOFFSETTO:-0400
TZNAME:EDT
DTSTART:20240310T070000
END:DAYLIGHT
BEGIN:STANDARD
TZOFFSETFROM:-0400
TZOFFSETTO:-0500
TZNAME:EST
DTSTART:20241103T060000
END:STANDARD
BEGIN:DAYLIGHT
TZOFFSETFROM:-0500
TZOFFSETTO:-0400
TZNAME:EDT
DTSTART:20250309T070000
END:DAYLIGHT
BEGIN:STANDARD
TZOFFSETFROM:-0400
TZOFFSETTO:-0500
TZNAME:EST
DTSTART:20251102T060000
END:STANDARD
BEGIN:DAYLIGHT
TZOFFSETFROM:-0500
TZOFFSETTO:-0400
TZNAME:EDT
DTSTART:20260308T070000
END:DAYLIGHT
BEGIN:STANDARD
TZOFFSETFROM:-0400
TZOFFSETTO:-0500
TZNAME:EST
DTSTART:20261101T060000
END:STANDARD
END:VTIMEZONE
BEGIN:VEVENT
DTSTART;TZID=America/New_York:20251207T103000
DTEND;TZID=America/New_York:20251207T123000
DTSTAMP:20260419T084158
CREATED:20251015T011728Z
LAST-MODIFIED:20251217T165339Z
UID:1128-1765103400-1765110600@mediciprov.com
SUMMARY:Bluey Breakfast and Bubbles
DESCRIPTION:https://mediciprov.com/wp-content/uploads/2025/10/Bluey-Your-Story.mp4\nBluey Breakfast and Bubbles \nBring your little ones for a morning full of giggles\, goodies\, and Bluey magic! \nEnjoy a delicious breakfast spread of muffins\, bagels\, and pastries\, then dance the morning away at our bubble dance party with Bluey herself! \nThis playful event is perfect for families and fans of everyone’s favorite blue pup. There will be music\, meet and greets\, and plenty of adorable photo moments you’ll treasure forever. \nSunday\, December 7th. 10:30 AM Medici Lounge\, Providence.
URL:https://mediciprov.com/event/bluey-breakfast-and-bubbles/
LOCATION:Medici Lounge\, 172 Pine St\, Providence\, RI\, 02903\, United States
CATEGORIES:Lounge
END:VEVENT
END:VCALENDAR