BEGIN:VCALENDAR
VERSION:2.0
PRODID:-//Medici Providence - ECPv6.15.16//NONSGML v1.0//EN
CALSCALE:GREGORIAN
METHOD:PUBLISH
X-ORIGINAL-URL:https://mediciprov.com
X-WR-CALDESC:Events for Medici Providence
REFRESH-INTERVAL;VALUE=DURATION:PT1H
X-Robots-Tag:noindex
X-PUBLISHED-TTL:PT1H
BEGIN:VTIMEZONE
TZID:America/New_York
BEGIN:DAYLIGHT
TZOFFSETFROM:-0500
TZOFFSETTO:-0400
TZNAME:EDT
DTSTART:20240310T070000
END:DAYLIGHT
BEGIN:STANDARD
TZOFFSETFROM:-0400
TZOFFSETTO:-0500
TZNAME:EST
DTSTART:20241103T060000
END:STANDARD
BEGIN:DAYLIGHT
TZOFFSETFROM:-0500
TZOFFSETTO:-0400
TZNAME:EDT
DTSTART:20250309T070000
END:DAYLIGHT
BEGIN:STANDARD
TZOFFSETFROM:-0400
TZOFFSETTO:-0500
TZNAME:EST
DTSTART:20251102T060000
END:STANDARD
BEGIN:DAYLIGHT
TZOFFSETFROM:-0500
TZOFFSETTO:-0400
TZNAME:EDT
DTSTART:20260308T070000
END:DAYLIGHT
BEGIN:STANDARD
TZOFFSETFROM:-0400
TZOFFSETTO:-0500
TZNAME:EST
DTSTART:20261101T060000
END:STANDARD
END:VTIMEZONE
BEGIN:VEVENT
DTSTART;TZID=America/New_York:20250301T220000
DTEND;TZID=America/New_York:20250302T020000
DTSTAMP:20260419T084453
CREATED:20250227T222952Z
LAST-MODIFIED:20250228T223124Z
UID:386-1740866400-1740880800@mediciprov.com
SUMMARY:Certified & Vondoom
DESCRIPTION:RSVP 401-329-6728
URL:https://mediciprov.com/event/certified-vondoom/
LOCATION:Nightlife\, 127 Friendship St\, Providence\, RI\, 02903\, United States
CATEGORIES:Dance Club,Lounge
ATTACH;FMTTYPE=image/png:https://mediciprov.com/wp-content/uploads/2025/02/11.png
END:VEVENT
BEGIN:VEVENT
DTSTART;TZID=America/New_York:20250306T190000
DTEND;TZID=America/New_York:20250306T223000
DTSTAMP:20260419T084453
CREATED:20250224T224926Z
LAST-MODIFIED:20250224T233914Z
UID:372-1741287600-1741300200@mediciprov.com
SUMMARY:Comedy Night With Nick Callas
DESCRIPTION:Medici\, downtown Providence’s newest and hottest nightlife experience\, is bringing comedy to Thursday Nights starting with Nick Callas\, one of NYC’s hottest up-and-comers as he tapes his next comedy special! Nick is a regular at the world famous Comedy Cellar and frequents the top NYC comedy clubs. He’s opened for SNL’s Colin Jost\, Dana Carvey and Tracy Morgan\, and is a finalist for next year’s cast of Saturday Night Live. \nOn Television\, Nick starred in Music Choice’s Questionable Choices and was featured on NY’s Funniest for NBC’s SeeSo. As an actor Nick appeared in Jennifer Esposito’s FEATURE FILM\, Fresh Kills\, which debuted at the TriBeca Film Festival in NYC and starred as the lead in both JAMS and At Midnight which featured in San Francisco’s International Film Festival. He is a cast member and cofounder of American High Shorts which has grossed hundreds of thousands of views and followers on TikTok\, Instagram and YouTube. He’s released multiple viral videos as a character actor\, impressionist\, stand up comic and rapper @MrNickCallas on IG. Nick’s first stand up comedy hour special WOLF PUP was co=produced and released by the comedy record label 800lb Gorilla\, and is currently streaming on YouTube.
URL:https://mediciprov.com/event/comedy-night-with-nick-callas/
LOCATION:Medici Lounge\, 172 Pine St\, Providence\, RI\, 02903\, United States
CATEGORIES:Lounge
ATTACH;FMTTYPE=image/png:https://mediciprov.com/wp-content/uploads/2025/02/Medici-x-PCU-Insta-Flyer.png
END:VEVENT
BEGIN:VEVENT
DTSTART;TZID=America/New_York:20250307T220000
DTEND;TZID=America/New_York:20250308T020000
DTSTAMP:20260419T084453
CREATED:20250227T223202Z
LAST-MODIFIED:20250228T222808Z
UID:389-1741384800-1741399200@mediciprov.com
SUMMARY:Bently
DESCRIPTION:RSVP 401-329-6728
URL:https://mediciprov.com/event/bently-2/
LOCATION:Nightlife\, 127 Friendship St\, Providence\, RI\, 02903\, United States
CATEGORIES:Dance Club
ATTACH;FMTTYPE=image/png:https://mediciprov.com/wp-content/uploads/2025/02/12.png
END:VEVENT
BEGIN:VEVENT
DTSTART;TZID=America/New_York:20250308T220000
DTEND;TZID=America/New_York:20250309T030000
DTSTAMP:20260419T084453
CREATED:20250227T223334Z
LAST-MODIFIED:20250303T205058Z
UID:392-1741471200-1741489200@mediciprov.com
SUMMARY:DJ Giode & DJ Donny D
DESCRIPTION:Join us for the best nightlife in Providence\, Saturday\, March 8th featuring DJ Giode and DJ Donnny D spinning your favorite music from 10:00 PM until 2:00 AM at Medici RSVP 401-329
URL:https://mediciprov.com/event/giode-dj-dnnied/
LOCATION:Nightlife\, 127 Friendship St\, Providence\, RI\, 02903\, United States
CATEGORIES:Dance Club
ATTACH;FMTTYPE=image/jpeg:https://mediciprov.com/wp-content/uploads/2025/02/IMG_9980.jpeg
END:VEVENT
BEGIN:VEVENT
DTSTART;TZID=America/New_York:20250314T220000
DTEND;TZID=America/New_York:20250315T020000
DTSTAMP:20260419T084453
CREATED:20250227T223708Z
LAST-MODIFIED:20250228T222916Z
UID:396-1741989600-1742004000@mediciprov.com
SUMMARY:Bently
DESCRIPTION:RSVP 401-329-6728
URL:https://mediciprov.com/event/bently-3/
LOCATION:Nightlife\, 127 Friendship St\, Providence\, RI\, 02903\, United States
CATEGORIES:Dance Club
ATTACH;FMTTYPE=image/png:https://mediciprov.com/wp-content/uploads/2025/02/14.png
END:VEVENT
BEGIN:VEVENT
DTSTART;TZID=America/New_York:20250315T220000
DTEND;TZID=America/New_York:20250316T020000
DTSTAMP:20260419T084453
CREATED:20250227T223817Z
LAST-MODIFIED:20250228T222939Z
UID:399-1742076000-1742090400@mediciprov.com
SUMMARY:TBA
DESCRIPTION:
URL:https://mediciprov.com/event/tba/
LOCATION:Nightlife\, 127 Friendship St\, Providence\, RI\, 02903\, United States
CATEGORIES:Dance Club
ATTACH;FMTTYPE=image/png:https://mediciprov.com/wp-content/uploads/2025/02/15.png
END:VEVENT
BEGIN:VEVENT
DTSTART;TZID=America/New_York:20250321T220000
DTEND;TZID=America/New_York:20250322T020000
DTSTAMP:20260419T084453
CREATED:20250227T223926Z
LAST-MODIFIED:20250228T223048Z
UID:402-1742594400-1742608800@mediciprov.com
SUMMARY:Bently
DESCRIPTION:RSVP 401-329-6728
URL:https://mediciprov.com/event/bently-4/
LOCATION:Nightlife\, 127 Friendship St\, Providence\, RI\, 02903\, United States
CATEGORIES:Dance Club
ATTACH;FMTTYPE=image/png:https://mediciprov.com/wp-content/uploads/2025/02/16.png
END:VEVENT
BEGIN:VEVENT
DTSTART;TZID=America/New_York:20250322T220000
DTEND;TZID=America/New_York:20250323T020000
DTSTAMP:20260419T084453
CREATED:20250227T224024Z
LAST-MODIFIED:20250228T212213Z
UID:405-1742680800-1742695200@mediciprov.com
SUMMARY:Daryus Costa
DESCRIPTION:
URL:https://mediciprov.com/event/daryus-costa-2/
LOCATION:Nightlife\, 127 Friendship St\, Providence\, RI\, 02903\, United States
CATEGORIES:Dance Club
ATTACH;FMTTYPE=image/png:https://mediciprov.com/wp-content/uploads/2025/02/17.png
END:VEVENT
BEGIN:VEVENT
DTSTART;TZID=America/New_York:20250328T220000
DTEND;TZID=America/New_York:20250329T020000
DTSTAMP:20260419T084453
CREATED:20250227T224136Z
LAST-MODIFIED:20250228T223020Z
UID:408-1743199200-1743213600@mediciprov.com
SUMMARY:Bently
DESCRIPTION:RSVP 401-329-6728
URL:https://mediciprov.com/event/bently-5/
LOCATION:Nightlife\, 127 Friendship St\, Providence\, RI\, 02903\, United States
CATEGORIES:Dance Club
ATTACH;FMTTYPE=image/png:https://mediciprov.com/wp-content/uploads/2025/02/18.png
END:VEVENT
BEGIN:VEVENT
DTSTART;TZID=America/New_York:20250329T220000
DTEND;TZID=America/New_York:20250330T020000
DTSTAMP:20260419T084453
CREATED:20250227T224238Z
LAST-MODIFIED:20250228T222959Z
UID:411-1743285600-1743300000@mediciprov.com
SUMMARY:OG Pauly D & Osheen
DESCRIPTION:RSVP 401-329-6728
URL:https://mediciprov.com/event/og-pauly-d-osheen/
LOCATION:Nightlife\, 127 Friendship St\, Providence\, RI\, 02903\, United States
CATEGORIES:Dance Club
ATTACH;FMTTYPE=image/png:https://mediciprov.com/wp-content/uploads/2025/02/19.png
END:VEVENT
END:VCALENDAR