BEGIN:VCALENDAR
VERSION:2.0
PRODID:-//Medici Providence - ECPv6.15.16//NONSGML v1.0//EN
CALSCALE:GREGORIAN
METHOD:PUBLISH
X-ORIGINAL-URL:https://mediciprov.com
X-WR-CALDESC:Events for Medici Providence
REFRESH-INTERVAL;VALUE=DURATION:PT1H
X-Robots-Tag:noindex
X-PUBLISHED-TTL:PT1H
BEGIN:VTIMEZONE
TZID:America/New_York
BEGIN:DAYLIGHT
TZOFFSETFROM:-0500
TZOFFSETTO:-0400
TZNAME:EDT
DTSTART:20240310T070000
END:DAYLIGHT
BEGIN:STANDARD
TZOFFSETFROM:-0400
TZOFFSETTO:-0500
TZNAME:EST
DTSTART:20241103T060000
END:STANDARD
BEGIN:DAYLIGHT
TZOFFSETFROM:-0500
TZOFFSETTO:-0400
TZNAME:EDT
DTSTART:20250309T070000
END:DAYLIGHT
BEGIN:STANDARD
TZOFFSETFROM:-0400
TZOFFSETTO:-0500
TZNAME:EST
DTSTART:20251102T060000
END:STANDARD
BEGIN:DAYLIGHT
TZOFFSETFROM:-0500
TZOFFSETTO:-0400
TZNAME:EDT
DTSTART:20260308T070000
END:DAYLIGHT
BEGIN:STANDARD
TZOFFSETFROM:-0400
TZOFFSETTO:-0500
TZNAME:EST
DTSTART:20261101T060000
END:STANDARD
END:VTIMEZONE
BEGIN:VEVENT
DTSTART;TZID=America/New_York:20251101T220000
DTEND;TZID=America/New_York:20251102T020000
DTSTAMP:20260419T084453
CREATED:20251022T150407Z
LAST-MODIFIED:20251022T151713Z
UID:1135-1762034400-1762048800@mediciprov.com
SUMMARY:Alan Dixon (Keinemusik)
DESCRIPTION:Extra Credit Presents: Halloween w/Alan Dixon \nSat Nov 1 at 10PM-2AM \nHalloween w/Alan Dixon at Medici’s Club room. Limited tickets. \nThis time we welcome Alan Dixon-whose work with Keinemusik has propelled him onto the world stage. With standout tracks like”Forms of Love” and “Thandaza” released on keinemusik\, Dixon has carried his unmistakable Afro-House sound across the globe. \n18+ entry/21 + to drink-please bring valid government issued ID \nAll ticket sales are final-this event will sell out so please arrive early to avoid queues\, doors open at 10PM. \n127 Friendship St\, Providence\, RI 02904
URL:https://mediciprov.com/event/1135/
LOCATION:Medici\, 127 Friendship St\, Providence\, RI\, 02904\, United States
CATEGORIES:Dance Club
END:VEVENT
BEGIN:VEVENT
DTSTART;TZID=America/New_York:20251112T183000
DTEND;TZID=America/New_York:20251112T220000
DTSTAMP:20260419T084453
CREATED:20250417T060704Z
LAST-MODIFIED:20250417T062425Z
UID:495-1762972200-1762984800@mediciprov.com
SUMMARY:Magic Men Australia Takeover Rhode Island!
DESCRIPTION:The Magic Men Australia WORLD TOUR is hitting Providence\, Rhode Island. This is your chance to witness the ultimate\, high-energy\, jaw-dropping\, pulse-racing male revue show LIVE! \n💥 Featuring TIKTOK SENSATION WILL PARFITT! \n🔥 Expect an all-star lineup of chiseled hunks\, heart-racing performances\, and electrifying stage presence that will leave you breathless and begging for more! \n🎟️ EXCLUSIVE VIP OFFER! The first 20 to grab a Priority ticket will lock in front-row seats for the steamiest\, up-close experience of a lifetime! \n🎟️ SHOW SCHEDULE 🎟️ \n⏰ 6:00 PM – VIP ENTRY \n⏰ 6:30 PM – Doors Open\n🎭 7:30 PM – Show Commences\n🎉 10:00 PM – Show Concludes \n🎟️ TICKETS: \nGeneral Entry – $49\nPriority Seating – $69\nPREMIUM VIP – $89 \n✨ Round up your squad for the ULTIMATE Girls’ Night Out! Get ready for a night packed with jaw-dropping entertainment\, cheeky surprises\, and non-stop fun. \n🚨 TICKETS ARE SELLING FAST – DON’T MISS OUT! Secure yours NOW and experience the Magic Men Australia WORLD TOUR LIVE! \n❗ IMPORTANT REMINDERS\n⚠️ Arrive 30 minutes early to check in and avoid long lines.\n🍹 Alcohol: Enjoy beers\, champagne\, spirits\, and mixers from the bar.\n🎭 Lineup Disclaimer: Magic Men reserve the right to adjust the performer roster based on availability.\n💡 Effects Notice: The show may include flashing lights and strobe effects. \n✨ Don’t miss out! Book your tickets now for a night that promises to be hot\, fun\, and unforgettable! ✨
URL:https://mediciprov.com/event/magic-men-australia-takeover-rhode-island/
LOCATION:Nightlife\, 127 Friendship St\, Providence\, RI\, 02903\, United States
CATEGORIES:Dance Club
ATTACH;FMTTYPE=image/webp:https://mediciprov.com/wp-content/uploads/2025/04/64dec6e2d4440.webp
END:VEVENT
BEGIN:VEVENT
DTSTART;TZID=America/New_York:20251116T090000
DTEND;TZID=America/New_York:20251116T113000
DTSTAMP:20260419T084453
CREATED:20251004T212242Z
LAST-MODIFIED:20251004T212242Z
UID:1104-1763283600-1763292600@mediciprov.com
SUMMARY:K-POP DEMON HUNTERS BRUNCH
DESCRIPTION:Join us November 16\, 2025 for a morning of performances\, dancing\, meet and greets\, and brunch with Rumi\, Zoey & Mira! \nCheck-in begins: 9:15am \nShow begins: 10:00am \nBrunch served shortly after show starts \n**Every person in attendance requires a ticket except those 12 months and younger. \nTo preserve the nature and cultural significance\, the characters will be played by Asian performers only.
URL:https://mediciprov.com/event/k-pop-demon-hunters-brunch/
LOCATION:The Party People RI
CATEGORIES:Lounge
END:VEVENT
END:VCALENDAR